{
 "currentVersion": 10.81,
 "serviceDescription": "This grid represents the dominant area where black seabass (Centropristis striata) is found within the South Atlantic Fishery Management Council area of jurisdiction and adjacent estuaries.",
 "name": "SAFMC/BSB_Core",
 "description": "This grid represents the dominant area where black seabass (Centropristis striata) is found within the South Atlantic Fishery Management Council area of jurisdiction and adjacent estuaries.",
 "extent": {
  "xmin": -9087501.815225318,
  "ymin": 3094570.886023279,
  "xmax": -7955506.984851554,
  "ymax": 4232586.965494775,
  "spatialReference": {
   "wkid": 102100,
   "latestWkid": 3857
  }
 },
 "initialExtent": {
  "xmin": -9087501.815225318,
  "ymin": 3094570.886023279,
  "xmax": -7955506.984851554,
  "ymax": 4232586.965494775,
  "spatialReference": {
   "wkid": 102100,
   "latestWkid": 3857
  }
 },
 "fullExtent": {
  "xmin": -9087501.815225318,
  "ymin": 3094570.886023279,
  "xmax": -7955506.984851554,
  "ymax": 4232586.965494775,
  "spatialReference": {
   "wkid": 102100,
   "latestWkid": 3857
  }
 },
 "pixelSizeX": 2007.0830325775958,
 "pixelSizeY": 2007.083032577595,
 "bandCount": 1,
 "pixelType": "S16",
 "minPixelSize": 0,
 "maxPixelSize": 0,
 "copyrightText": "South Atlantic Fishery Independent Monitoring Program Workshop, November 17-20, 2009, Beaufort, NC",
 "serviceDataType": "esriImageServiceDataTypeGeneric",
 "minValues": [
  -130
 ],
 "maxValues": [
  -2
 ],
 "meanValues": [
  -28.79512664315486
 ],
 "stdvValues": [
  23.558884337781652
 ],
 "objectIdField": "",
 "fields": [],
 "capabilities": "Mensuration,Image,Metadata",
 "defaultMosaicMethod": "Center",
 "allowedMosaicMethods": "",
 "sortField": "",
 "sortValue": null,
 "sortAscending": true,
 "mosaicOperator": "First",
 "defaultCompressionQuality": 75,
 "defaultResamplingMethod": "Bilinear",
 "maxImageHeight": 4100,
 "maxImageWidth": 15000,
 "allowRasterFunction": true,
 "rasterFunctionInfos": [
  {
   "name": "None",
   "description": "",
   "help": ""
  }
 ],
 "rasterTypeInfos": [
  {
   "name": "Raster Dataset",
   "description": "Supports all ArcGIS Raster Datasets",
   "help": ""
  }
 ],
 "mensurationCapabilities": "Basic",
 "hasHistograms": true,
 "hasColormap": false,
 "hasRasterAttributeTable": true,
 "minScale": 0,
 "maxScale": 0,
 "exportTilesAllowed": false,
 "hasMultidimensions": false,
 "supportsStatistics": false,
 "supportsAdvancedQueries": false,
 "editFieldsInfo": null,
 "ownershipBasedAccessControlForRasters": null,
 "allowComputeTiePoints": false,
 "useStandardizedQueries": true,
 "advancedQueryCapabilities": {
  "useStandardizedQueries": true,
  "supportsStatistics": false,
  "supportsOrderBy": false,
  "supportsDistinct": false,
  "supportsPagination": false
 },
 "spatialReference": {
  "wkid": 102100,
  "latestWkid": 3857
 }
}
