View In:
ArcGIS JavaScript
ArcGIS Online Map Viewer
ArcGIS Earth
ArcMap
View Footprint In:
ArcGIS Online Map Viewer
Service Description: This grid represents the general area where black seabass (Centropristis striata) is found within the South Atlantic Fishery Management Council area of jurisdiction and adjacent estuaries.
Name: SAFMC/bsb_general2
Description: This grid represents the general area where black seabass (Centropristis striata) is found within the South Atlantic Fishery Management Council area of jurisdiction and adjacent estuaries.
Single Fused Map Cache: false
Extent:
XMin: -81.634417750808
YMin: 27.470293001551994
XMax: -71.467749050808
YMax: 35.503627941552
Spatial Reference: 4326
(4326)
Initial Extent:
XMin: -81.634417750808
YMin: 27.470293001551994
XMax: -71.467749050808
YMax: 35.503627941552
Spatial Reference: 4326
(4326)
Full Extent:
XMin: -81.634417750808
YMin: 27.470293001551994
XMax: -71.467749050808
YMax: 35.503627941552
Spatial Reference: 4326
(4326)
Pixel Size X: 0.016666670000000005
Pixel Size Y: 0.016666670000000005
Band Count: 1
Pixel Type: S16
RasterFunction Infos: {"rasterFunctionInfos": [{
"name": "None",
"description": "",
"help": ""
}]}
Mensuration Capabilities: Basic
Has Histograms: true
Has Colormap: false
Has Multi Dimensions : false
Rendering Rule:
Min Scale: 0
Max Scale: 0
Copyright Text:
Service Data Type: esriImageServiceDataTypeGeneric
Min Values: -130
Max Values: -2
Mean Values: -29.367420910956533
Standard Deviation Values: 21.020419009471006
Object ID Field:
Fields:
None
Default Mosaic Method: Center
Allowed Mosaic Methods:
SortField:
SortValue: null
Mosaic Operator: First
Default Compression Quality: 75
Default Resampling Method: Bilinear
Max Record Count: null
Max Image Height: 4100
Max Image Width: 15000
Max Download Image Count: null
Max Mosaic Image Count: null
Allow Raster Function: true
Allow Copy: null
Allow Analysis: null
Allow Compute TiePoints: false
Supports Statistics: false
Supports Advanced Queries: false
Use StandardizedQueries: true
Raster Type Infos:
Name: Raster Dataset
Description: Supports all ArcGIS Raster Datasets
Help:
Has Raster Attribute Table: true
Edit Fields Info: null
Ownership Based AccessControl For Rasters: null
Child Resources:
Info
Raster Attribute Table
Histograms
Key Properties
Legend
Raster Function Infos
Supported Operations:
Export Image
Identify
Measure
Compute Histograms
Compute Statistics Histograms
Get Samples
Compute Class Statistics
Query Boundary
Compute Pixel Location
Validate
Project