{
 "currentVersion": 10.81,
 "serviceDescription": "This grid represents the general area where black seabass (Centropristis striata) is found within the South Atlantic Fishery Management Council area of jurisdiction and adjacent estuaries.",
 "name": "SAFMC/bsb_general2",
 "description": "This grid represents the general area where black seabass (Centropristis striata) is found within the South Atlantic Fishery Management Council area of jurisdiction and adjacent estuaries.",
 "extent": {
  "xmin": -81.634417750808,
  "ymin": 27.470293001551994,
  "xmax": -71.467749050808,
  "ymax": 35.503627941552,
  "spatialReference": {
   "wkid": 4326,
   "latestWkid": 4326
  }
 },
 "initialExtent": {
  "xmin": -81.634417750808,
  "ymin": 27.470293001551994,
  "xmax": -71.467749050808,
  "ymax": 35.503627941552,
  "spatialReference": {
   "wkid": 4326,
   "latestWkid": 4326
  }
 },
 "fullExtent": {
  "xmin": -81.634417750808,
  "ymin": 27.470293001551994,
  "xmax": -71.467749050808,
  "ymax": 35.503627941552,
  "spatialReference": {
   "wkid": 4326,
   "latestWkid": 4326
  }
 },
 "pixelSizeX": 0.016666670000000005,
 "pixelSizeY": 0.016666670000000005,
 "bandCount": 1,
 "pixelType": "S16",
 "minPixelSize": 0,
 "maxPixelSize": 0,
 "copyrightText": "",
 "serviceDataType": "esriImageServiceDataTypeGeneric",
 "minValues": [
  -130
 ],
 "maxValues": [
  -2
 ],
 "meanValues": [
  -29.367420910956533
 ],
 "stdvValues": [
  21.020419009471006
 ],
 "objectIdField": "",
 "fields": [],
 "capabilities": "Image,Metadata,Mensuration",
 "defaultMosaicMethod": "Center",
 "allowedMosaicMethods": "",
 "sortField": "",
 "sortValue": null,
 "sortAscending": true,
 "mosaicOperator": "First",
 "defaultCompressionQuality": 75,
 "defaultResamplingMethod": "Bilinear",
 "maxImageHeight": 4100,
 "maxImageWidth": 15000,
 "allowRasterFunction": true,
 "rasterFunctionInfos": [
  {
   "name": "None",
   "description": "",
   "help": ""
  }
 ],
 "rasterTypeInfos": [
  {
   "name": "Raster Dataset",
   "description": "Supports all ArcGIS Raster Datasets",
   "help": ""
  }
 ],
 "mensurationCapabilities": "Basic",
 "hasHistograms": true,
 "hasColormap": false,
 "hasRasterAttributeTable": true,
 "minScale": 0,
 "maxScale": 0,
 "exportTilesAllowed": false,
 "hasMultidimensions": false,
 "supportsStatistics": false,
 "supportsAdvancedQueries": false,
 "editFieldsInfo": null,
 "ownershipBasedAccessControlForRasters": null,
 "allowComputeTiePoints": false,
 "useStandardizedQueries": true,
 "advancedQueryCapabilities": {
  "useStandardizedQueries": true,
  "supportsStatistics": false,
  "supportsOrderBy": false,
  "supportsDistinct": false,
  "supportsPagination": false
 },
 "spatialReference": {
  "wkid": 4326,
  "latestWkid": 4326
 }
}
