View In:
ArcGIS JavaScript
ArcGIS Online Map Viewer
ArcGIS Earth
ArcMap
View Footprint In:
ArcGIS Online Map Viewer
Service Description: Chlorophyll-a concentration
An estimate of phytoplankton biomass. Units are mg/m3.
Name: Projects_Other/FK_A1KM_MONTH_CHL_SEN_SLOPE
Description: Chlorophyll-a concentration
An estimate of phytoplankton biomass. Units are mg/m3.
Single Fused Map Cache: false
Extent:
XMin: -83
YMin: 24.25
XMax: -79.5
YMax: 27.25
Spatial Reference: 4326
(4326)
Initial Extent:
XMin: -83
YMin: 24.25
XMax: -79.5
YMax: 27.25
Spatial Reference: 4326
(4326)
Full Extent:
XMin: -83
YMin: 24.25
XMax: -79.5
YMax: 27.25
Spatial Reference: 4326
(4326)
Pixel Size X: 0.00909090909090909
Pixel Size Y: 0.00909090909090909
Band Count: 1
Pixel Type: F64
RasterFunction Infos: {"rasterFunctionInfos": [{
"name": "None",
"description": "",
"help": ""
}]}
Mensuration Capabilities: Basic
Has Histograms: true
Has Colormap: false
Has Multi Dimensions : false
Rendering Rule:
Min Scale: 0
Max Scale: 0
Copyright Text:
Service Data Type: esriImageServiceDataTypeGeneric
Min Values: -0.77775524722205
Max Values: 0.11459539050148
Mean Values: 0.0024505277900418
Standard Deviation Values: 0.029550339763267
Object ID Field:
Fields:
None
Default Mosaic Method: Center
Allowed Mosaic Methods:
SortField:
SortValue: null
Mosaic Operator: First
Default Compression Quality: 75
Default Resampling Method: Bilinear
Max Record Count: null
Max Image Height: 4100
Max Image Width: 15000
Max Download Image Count: null
Max Mosaic Image Count: null
Allow Raster Function: true
Allow Copy: null
Allow Analysis: null
Allow Compute TiePoints: false
Supports Statistics: false
Supports Advanced Queries: false
Use StandardizedQueries: true
Raster Type Infos:
Name: Raster Dataset
Description: Supports all ArcGIS Raster Datasets
Help:
Has Raster Attribute Table: false
Edit Fields Info: null
Ownership Based AccessControl For Rasters: null
Child Resources:
Info
Histograms
Key Properties
Legend
Raster Function Infos
Supported Operations:
Export Image
Identify
Measure
Compute Histograms
Compute Statistics Histograms
Get Samples
Compute Class Statistics
Query Boundary
Compute Pixel Location
Validate
Project