View In:
ArcGIS JavaScript
ArcGIS Online Map Viewer
ArcGIS Earth
ArcMap
View Footprint In:
ArcGIS Online Map Viewer
Service Description: This grid represents the dominant area where black seabass (Centropristis striata) is found within the South Atlantic Fishery Management Council area of jurisdiction and adjacent estuaries.
Name: SAFMC/BSB_Core
Description: This grid represents the dominant area where black seabass (Centropristis striata) is found within the South Atlantic Fishery Management Council area of jurisdiction and adjacent estuaries.
Single Fused Map Cache: false
Extent:
XMin: -9087501.815225318
YMin: 3094570.886023279
XMax: -7955506.984851554
YMax: 4232586.965494775
Spatial Reference: 102100
(3857)
Initial Extent:
XMin: -9087501.815225318
YMin: 3094570.886023279
XMax: -7955506.984851554
YMax: 4232586.965494775
Spatial Reference: 102100
(3857)
Full Extent:
XMin: -9087501.815225318
YMin: 3094570.886023279
XMax: -7955506.984851554
YMax: 4232586.965494775
Spatial Reference: 102100
(3857)
Pixel Size X: 2007.0830325775958
Pixel Size Y: 2007.083032577595
Band Count: 1
Pixel Type: S16
RasterFunction Infos: {"rasterFunctionInfos": [{
"name": "None",
"description": "",
"help": ""
}]}
Mensuration Capabilities: Basic
Has Histograms: true
Has Colormap: false
Has Multi Dimensions : false
Rendering Rule:
Min Scale: 0
Max Scale: 0
Copyright Text: South Atlantic Fishery Independent Monitoring Program Workshop, November 17-20, 2009, Beaufort, NC
Service Data Type: esriImageServiceDataTypeGeneric
Min Values: -130
Max Values: -2
Mean Values: -28.79512664315486
Standard Deviation Values: 23.558884337781652
Object ID Field:
Fields:
None
Default Mosaic Method: Center
Allowed Mosaic Methods:
SortField:
SortValue: null
Mosaic Operator: First
Default Compression Quality: 75
Default Resampling Method: Bilinear
Max Record Count: null
Max Image Height: 4100
Max Image Width: 15000
Max Download Image Count: null
Max Mosaic Image Count: null
Allow Raster Function: true
Allow Copy: null
Allow Analysis: null
Allow Compute TiePoints: false
Supports Statistics: false
Supports Advanced Queries: false
Use StandardizedQueries: true
Raster Type Infos:
Name: Raster Dataset
Description: Supports all ArcGIS Raster Datasets
Help:
Has Raster Attribute Table: true
Edit Fields Info: null
Ownership Based AccessControl For Rasters: null
Child Resources:
Info
Raster Attribute Table
Histograms
Key Properties
Legend
Raster Function Infos
Supported Operations:
Export Image
Identify
Measure
Compute Histograms
Compute Statistics Histograms
Get Samples
Compute Class Statistics
Query Boundary
Compute Pixel Location
Validate
Project